BEGIN:VCALENDAR
VERSION:2.0
PRODID:-//UNION-IHEDN - ECPv6.15.20//NONSGML v1.0//EN
CALSCALE:GREGORIAN
METHOD:PUBLISH
X-ORIGINAL-URL:https://www.union-ihedn.org
X-WR-CALDESC:Évènements pour UNION-IHEDN
REFRESH-INTERVAL;VALUE=DURATION:PT1H
X-Robots-Tag:noindex
X-PUBLISHED-TTL:PT1H
BEGIN:VTIMEZONE
TZID:Europe/Paris
BEGIN:DAYLIGHT
TZOFFSETFROM:+0100
TZOFFSETTO:+0200
TZNAME:CEST
DTSTART:20240331T010000
END:DAYLIGHT
BEGIN:STANDARD
TZOFFSETFROM:+0200
TZOFFSETTO:+0100
TZNAME:CET
DTSTART:20241027T010000
END:STANDARD
BEGIN:DAYLIGHT
TZOFFSETFROM:+0100
TZOFFSETTO:+0200
TZNAME:CEST
DTSTART:20250330T010000
END:DAYLIGHT
BEGIN:STANDARD
TZOFFSETFROM:+0200
TZOFFSETTO:+0100
TZNAME:CET
DTSTART:20251026T010000
END:STANDARD
BEGIN:DAYLIGHT
TZOFFSETFROM:+0100
TZOFFSETTO:+0200
TZNAME:CEST
DTSTART:20260329T010000
END:DAYLIGHT
BEGIN:STANDARD
TZOFFSETFROM:+0200
TZOFFSETTO:+0100
TZNAME:CET
DTSTART:20261025T010000
END:STANDARD
END:VTIMEZONE
BEGIN:VEVENT
DTSTART;VALUE=DATE:20251018
DTEND;VALUE=DATE:20251019
DTSTAMP:20260421T174438
CREATED:20251006T111310Z
LAST-MODIFIED:20251006T142154Z
UID:10000066-1760745600-1760831999@www.union-ihedn.org
SUMMARY:Séminaire annuel de l'Association Régionale IHEDN - AR 30 Guyane
DESCRIPTION:Retrouvez toutes les informations et modalités d’inscription concernant le prochain séminaire de l’AR 30 Guyane en cliquant sur le bouton ci après: \nJE TELECHARGE LE PROGRAMME
URL:https://www.union-ihedn.org/evenement/seminaire-annuel-de-association-ihedn-region-guyane/
LOCATION:Belle terre resort – Macouria – GUYANE
ATTACH;FMTTYPE=image/jpeg:https://www.union-ihedn.org/wp-content/uploads/2025/10/AR-30-18-octobre-scaled-e1759760482818.jpg
END:VEVENT
END:VCALENDAR