BEGIN:VCALENDAR
VERSION:2.0
PRODID:-//UNION-IHEDN - ECPv6.15.20//NONSGML v1.0//EN
CALSCALE:GREGORIAN
METHOD:PUBLISH
X-ORIGINAL-URL:https://www.union-ihedn.org
X-WR-CALDESC:Évènements pour UNION-IHEDN
REFRESH-INTERVAL;VALUE=DURATION:PT1H
X-Robots-Tag:noindex
X-PUBLISHED-TTL:PT1H
BEGIN:VTIMEZONE
TZID:Europe/Paris
BEGIN:DAYLIGHT
TZOFFSETFROM:+0100
TZOFFSETTO:+0200
TZNAME:CEST
DTSTART:20240331T010000
END:DAYLIGHT
BEGIN:STANDARD
TZOFFSETFROM:+0200
TZOFFSETTO:+0100
TZNAME:CET
DTSTART:20241027T010000
END:STANDARD
BEGIN:DAYLIGHT
TZOFFSETFROM:+0100
TZOFFSETTO:+0200
TZNAME:CEST
DTSTART:20250330T010000
END:DAYLIGHT
BEGIN:STANDARD
TZOFFSETFROM:+0200
TZOFFSETTO:+0100
TZNAME:CET
DTSTART:20251026T010000
END:STANDARD
BEGIN:DAYLIGHT
TZOFFSETFROM:+0100
TZOFFSETTO:+0200
TZNAME:CEST
DTSTART:20260329T010000
END:DAYLIGHT
BEGIN:STANDARD
TZOFFSETFROM:+0200
TZOFFSETTO:+0100
TZNAME:CET
DTSTART:20261025T010000
END:STANDARD
END:VTIMEZONE
BEGIN:VEVENT
DTSTART;TZID=Europe/Paris:20251009T173000
DTEND;TZID=Europe/Paris:20251009T190000
DTSTAMP:20260421T173444
CREATED:20250926T142427Z
LAST-MODIFIED:20250926T143151Z
UID:10000064-1760031000-1760036400@www.union-ihedn.org
SUMMARY:Politique européenne de défense : allons-nous vers une "Europe de la défense" ou vers un simulacre ?
DESCRIPTION:Notre camarade Bernard Phan nous fera l’honneur et le plaisir de donner une conférence sur les actualités récentes en termes de politique(s) de défense\, en France et en Europe\, face à l’accélération de l’Histoire que nous vivons actuellement. \nLe retour des puissances régionales a été observé au cours de ces deux dernières décennies et celles-ci augmentent maintenant la pression sur leurs voisins en menaçant de ruptures des équilibres hier garantis. \nDans ce contexte international belliqueux\, l’Europe s’est toujours montrée divisée\, attentiste voire passive. Les mouvements actuels méritent l’éclairage de l’Histoire ! \nVous êtes invités à participer à la conférence de Bernard Phan le JEUDI 09 OCTOBRE 2025 à partir de 17H30 (accueil). Début de la conférence à 17H50.\nCentre de formation INTERFOR\, 2 rue Vadé\, à Amiens \nLIEN D’INSCRIPTION (prénom\, nom\, email et téléphone) :\nhttps://forms.gle/RSZ5J2EUKCX3MG6XA \nLes échanges pourront se poursuivre autour d’un repas dans un restaurant proche à l’issue.\nAu plaisir de vous y retrouver !\nPierre Despret pour le LIEN\nAR24 IHEDN
URL:https://www.union-ihedn.org/evenement/politique-europeenne-de-defense-allons-nous-vers-une-europe-de-la-defense-ou-vers-un-simulacre/
ATTACH;FMTTYPE=image/jpeg:https://www.union-ihedn.org/wp-content/uploads/2025/09/Conference-AR-24-9-octobre-scaled-e1758896657137.jpg
END:VEVENT
END:VCALENDAR